


BEGIN:VCALENDAR
VERSION:2.0
PRODID:-//Club Vosgien Niederbronn-les-bains - ECPv6.15.20//NONSGML v1.0//EN
CALSCALE:GREGORIAN
METHOD:PUBLISH
X-WR-CALNAME:Club Vosgien Niederbronn-les-bains
X-ORIGINAL-URL:https://www.club-vosgien-niederbronn.eu
X-WR-CALDESC:Évènements pour Club Vosgien Niederbronn-les-bains
REFRESH-INTERVAL;VALUE=DURATION:PT1H
X-Robots-Tag:noindex
X-PUBLISHED-TTL:PT1H
BEGIN:VTIMEZONE
TZID:Europe/Paris
BEGIN:DAYLIGHT
TZOFFSETFROM:+0100
TZOFFSETTO:+0200
TZNAME:CEST
DTSTART:20250330T010000
END:DAYLIGHT
BEGIN:STANDARD
TZOFFSETFROM:+0200
TZOFFSETTO:+0100
TZNAME:CET
DTSTART:20251026T010000
END:STANDARD
BEGIN:DAYLIGHT
TZOFFSETFROM:+0100
TZOFFSETTO:+0200
TZNAME:CEST
DTSTART:20260329T010000
END:DAYLIGHT
BEGIN:STANDARD
TZOFFSETFROM:+0200
TZOFFSETTO:+0100
TZNAME:CET
DTSTART:20261025T010000
END:STANDARD
BEGIN:DAYLIGHT
TZOFFSETFROM:+0100
TZOFFSETTO:+0200
TZNAME:CEST
DTSTART:20270328T010000
END:DAYLIGHT
BEGIN:STANDARD
TZOFFSETFROM:+0200
TZOFFSETTO:+0100
TZNAME:CET
DTSTART:20271031T010000
END:STANDARD
END:VTIMEZONE
BEGIN:VEVENT
DTSTART;TZID=Europe/Paris:20260524T120000
DTEND;TZID=Europe/Paris:20260524T150000
DTSTAMP:20260422T102146
CREATED:20260212T203908Z
LAST-MODIFIED:20260328T160636Z
UID:1557-1779624000-1779634800@www.club-vosgien-niederbronn.eu
SUMMARY:Repas : Pâté lorrain - salade verte
DESCRIPTION:Spécialités du jour : Pâté lorrain – salade verte – 13\,- € \nLes plats habituels seront également disponibles : oeufs au lard\, knacks\, soupe aux pois… \nInscription avant le 19 mai 2026.
URL:https://www.club-vosgien-niederbronn.eu/calendrier/repas-pate-lorrain-salade-verte/
LOCATION:Niederbronn les Bains – Chalet du Wintersberg\, Chalet - Wintersberg\, Niederbronn-les-Bains\, 67110\, France
CATEGORIES:Repas
END:VEVENT
END:VCALENDAR